Package: PWMEnrich Version: 4.42.0 Command: /home/biocbuild/R/R/bin/R CMD check --install=check:PWMEnrich.install-out.txt --library=/home/biocbuild/R/R/site-library --no-vignettes --timings PWMEnrich_4.42.0.tar.gz StartedAt: 2025-04-01 09:40:13 -0000 (Tue, 01 Apr 2025) EndedAt: 2025-04-01 09:42:19 -0000 (Tue, 01 Apr 2025) EllapsedTime: 126.2 seconds RetCode: 0 Status: OK CheckDir: PWMEnrich.Rcheck Warnings: 0