Package: PWMEnrich Version: 4.42.0 Command: /home/biocbuild/R/R/bin/R CMD build --keep-empty-dirs --no-resave-data PWMEnrich StartedAt: 2025-04-01 01:45:49 -0000 (Tue, 01 Apr 2025) EndedAt: 2025-04-01 01:47:23 -0000 (Tue, 01 Apr 2025) EllapsedTime: 94.0 seconds RetCode: 0 Status: OK PackageFile: PWMEnrich_4.42.0.tar.gz PackageFileSize: 1.56 MiB