Package: PSMatch Version: 1.10.0 Command: /home/biocbuild/R/R/bin/R CMD build --keep-empty-dirs --no-resave-data PSMatch StartedAt: 2025-04-01 01:43:54 -0000 (Tue, 01 Apr 2025) EndedAt: 2025-04-01 01:45:49 -0000 (Tue, 01 Apr 2025) EllapsedTime: 115.0 seconds RetCode: 0 Status: OK PackageFile: PSMatch_1.10.0.tar.gz PackageFileSize: 1.306 MiB