Package: PSMatch Version: 1.10.0 Command: /home/biocbuild/bbs-3.20-bioc/R/bin/R CMD check --install=check:PSMatch.install-out.txt --library=/home/biocbuild/bbs-3.20-bioc/R/site-library --timings PSMatch_1.10.0.tar.gz StartedAt: 2025-04-01 01:10:43 -0400 (Tue, 01 Apr 2025) EndedAt: 2025-04-01 01:16:03 -0400 (Tue, 01 Apr 2025) EllapsedTime: 320.3 seconds RetCode: 0 Status: OK CheckDir: PSMatch.Rcheck Warnings: 0