Package: PSMatch Version: 1.10.0 Command: /Library/Frameworks/R.framework/Resources/bin/R CMD INSTALL PSMatch StartedAt: 2025-03-31 15:58:01 -0400 (Mon, 31 Mar 2025) EndedAt: 2025-03-31 15:59:02 -0400 (Mon, 31 Mar 2025) EllapsedTime: 61.2 seconds RetCode: 0 Status: OK