Package: PSMatch Version: 1.10.0 Command: /Library/Frameworks/R.framework/Resources/bin/R CMD check --install=check:PSMatch.install-out.txt --library=/Library/Frameworks/R.framework/Resources/library --no-vignettes --timings PSMatch_1.10.0.tar.gz StartedAt: 2025-04-01 07:28:48 -0400 (Tue, 01 Apr 2025) EndedAt: 2025-04-01 07:37:28 -0400 (Tue, 01 Apr 2025) EllapsedTime: 519.7 seconds RetCode: 0 Status: OK CheckDir: PSMatch.Rcheck Warnings: 0