Package: PSMatch Version: 1.10.0 Command: /Library/Frameworks/R.framework/Resources/bin/R CMD INSTALL PSMatch StartedAt: 2025-03-31 16:54:51 -0400 (Mon, 31 Mar 2025) EndedAt: 2025-03-31 16:55:23 -0400 (Mon, 31 Mar 2025) EllapsedTime: 32.6 seconds RetCode: 0 Status: OK