Package: PROPS Version: 1.28.0 Command: /home/biocbuild/R/R/bin/R CMD INSTALL PROPS StartedAt: 2025-03-31 20:54:18 -0000 (Mon, 31 Mar 2025) EndedAt: 2025-03-31 20:54:43 -0000 (Mon, 31 Mar 2025) EllapsedTime: 25.2 seconds RetCode: 0 Status: OK