Package: PROPS Version: 1.28.0 Command: rm -rf PROPS.buildbin-libdir && mkdir PROPS.buildbin-libdir && /Users/biocbuild/BBS/utils/build-universal.sh PROPS_1.28.0.tar.gz /Library/Frameworks/R.framework/Resources/bin/R PROPS.buildbin-libdir StartedAt: 2025-04-01 12:29:44 -0400 (Tue, 01 Apr 2025) EndedAt: 2025-04-01 12:30:26 -0400 (Tue, 01 Apr 2025) EllapsedTime: 41.5 seconds RetCode: 0 Status: OK PackageFile: PROPS_1.28.0.tgz PackageFileSize: 3.603 MiB