Package: PROPS Version: 1.28.0 Command: /Library/Frameworks/R.framework/Resources/bin/R CMD INSTALL PROPS StartedAt: 2025-03-31 17:13:22 -0400 (Mon, 31 Mar 2025) EndedAt: 2025-03-31 17:13:43 -0400 (Mon, 31 Mar 2025) EllapsedTime: 21.1 seconds RetCode: 0 Status: OK