Package: PROPS Version: 1.28.0 Command: /Library/Frameworks/R.framework/Resources/bin/R CMD check --install=check:PROPS.install-out.txt --library=/Library/Frameworks/R.framework/Resources/library --no-vignettes --timings PROPS_1.28.0.tar.gz StartedAt: 2025-04-02 04:50:24 -0400 (Wed, 02 Apr 2025) EndedAt: 2025-04-02 04:56:15 -0400 (Wed, 02 Apr 2025) EllapsedTime: 351.1 seconds RetCode: 0 Status: OK CheckDir: PROPS.Rcheck Warnings: 0