Package: PRONE Version: 1.0.7 Command: F:\biocbuild\bbs-3.20-bioc\R\bin\R.exe CMD INSTALL PRONE StartedAt: 2025-03-31 16:50:42 -0400 (Mon, 31 Mar 2025) EndedAt: 2025-03-31 16:51:46 -0400 (Mon, 31 Mar 2025) EllapsedTime: 63.5 seconds RetCode: 0 Status: OK