Package: PRONE Version: 1.0.7 Command: chmod a+r PRONE -R && F:\biocbuild\bbs-3.20-bioc\R\bin\R.exe CMD build --keep-empty-dirs --no-resave-data PRONE StartedAt: 2025-03-31 21:09:38 -0400 (Mon, 31 Mar 2025) EndedAt: 2025-03-31 21:12:59 -0400 (Mon, 31 Mar 2025) EllapsedTime: 201.2 seconds RetCode: 0 Status: OK PackageFile: PRONE_1.0.7.tar.gz PackageFileSize: 6.28 MiB