Package: PRONE Version: 1.0.7 Command: /Library/Frameworks/R.framework/Resources/bin/R CMD INSTALL PRONE StartedAt: 2025-03-31 17:40:09 -0400 (Mon, 31 Mar 2025) EndedAt: 2025-03-31 17:40:52 -0400 (Mon, 31 Mar 2025) EllapsedTime: 42.4 seconds RetCode: 0 Status: OK