Package: PRONE Version: 1.0.7 Command: /Library/Frameworks/R.framework/Resources/bin/R CMD check --install=check:PRONE.install-out.txt --library=/Library/Frameworks/R.framework/Resources/library --no-vignettes --timings PRONE_1.0.7.tar.gz StartedAt: 2025-04-02 04:48:13 -0400 (Wed, 02 Apr 2025) EndedAt: 2025-04-02 04:53:38 -0400 (Wed, 02 Apr 2025) EllapsedTime: 325.2 seconds RetCode: 0 Status: OK CheckDir: PRONE.Rcheck Warnings: 0