Package: PRONE Version: 1.0.7 Command: /Library/Frameworks/R.framework/Resources/bin/R CMD build --keep-empty-dirs --no-resave-data PRONE StartedAt: 2025-04-01 05:26:32 -0400 (Tue, 01 Apr 2025) EndedAt: 2025-04-01 05:28:41 -0400 (Tue, 01 Apr 2025) EllapsedTime: 129.0 seconds RetCode: 0 Status: OK PackageFile: PRONE_1.0.7.tar.gz PackageFileSize: 10.2 MiB