Package: PROMISE Version: 1.58.0 Command: F:\biocbuild\bbs-3.20-bioc\R\bin\R.exe CMD INSTALL PROMISE StartedAt: 2025-03-31 15:57:52 -0400 (Mon, 31 Mar 2025) EndedAt: 2025-03-31 15:58:13 -0400 (Mon, 31 Mar 2025) EllapsedTime: 20.9 seconds RetCode: 0 Status: OK