Package: PROMISE Version: 1.58.0 Command: rm -rf PROMISE.buildbin-libdir && mkdir PROMISE.buildbin-libdir && /Users/biocbuild/BBS/utils/build-universal.sh PROMISE_1.58.0.tar.gz /Library/Frameworks/R.framework/Resources/bin/R PROMISE.buildbin-libdir StartedAt: 2025-04-02 15:42:42 -0400 (Wed, 02 Apr 2025) EndedAt: 2025-04-02 15:43:01 -0400 (Wed, 02 Apr 2025) EllapsedTime: 19.1 seconds RetCode: 0 Status: OK PackageFile: PROMISE_1.58.0.tgz PackageFileSize: 177.8 KiB