Package: PREDA Version: 1.52.0 Command: chmod a+r PREDA -R && F:\biocbuild\bbs-3.20-bioc\R\bin\R.exe CMD build --keep-empty-dirs --no-resave-data PREDA StartedAt: 2025-03-31 21:08:00 -0400 (Mon, 31 Mar 2025) EndedAt: 2025-03-31 21:11:04 -0400 (Mon, 31 Mar 2025) EllapsedTime: 184.1 seconds RetCode: 0 Status: OK PackageFile: PREDA_1.52.0.tar.gz PackageFileSize: 1.762 MiB