Package: PREDA Version: 1.52.0 Command: /Library/Frameworks/R.framework/Resources/bin/R CMD INSTALL PREDA StartedAt: 2025-03-31 17:24:59 -0400 (Mon, 31 Mar 2025) EndedAt: 2025-03-31 17:25:21 -0400 (Mon, 31 Mar 2025) EllapsedTime: 22.0 seconds RetCode: 0 Status: OK