Package: PPInfer Version: 1.32.0 Command: F:\biocbuild\bbs-3.20-bioc\R\bin\R.exe CMD INSTALL PPInfer StartedAt: 2025-03-31 16:42:12 -0400 (Mon, 31 Mar 2025) EndedAt: 2025-03-31 16:42:41 -0400 (Mon, 31 Mar 2025) EllapsedTime: 29.4 seconds RetCode: 0 Status: OK