Package: POWSC Version: 1.14.0 Command: /Library/Frameworks/R.framework/Resources/bin/R CMD check --install=check:POWSC.install-out.txt --library=/Library/Frameworks/R.framework/Resources/library --no-vignettes --timings POWSC_1.14.0.tar.gz StartedAt: 2025-04-02 04:30:37 -0400 (Wed, 02 Apr 2025) EndedAt: 2025-04-02 04:35:14 -0400 (Wed, 02 Apr 2025) EllapsedTime: 277.5 seconds RetCode: 0 Status: OK CheckDir: POWSC.Rcheck Warnings: 0