Package: POMA Version: 1.16.0 Command: /home/biocbuild/R/R/bin/R CMD check --install=check:POMA.install-out.txt --library=/home/biocbuild/R/R/site-library --no-vignettes --timings POMA_1.16.0.tar.gz StartedAt: 2025-04-01 09:30:16 -0000 (Tue, 01 Apr 2025) EndedAt: 2025-04-01 09:35:05 -0000 (Tue, 01 Apr 2025) EllapsedTime: 289.3 seconds RetCode: 1 Status: ERROR CheckDir: POMA.Rcheck Warnings: NA