Package: POMA Version: 1.16.0 Command: /Library/Frameworks/R.framework/Resources/bin/R CMD check --install=check:POMA.install-out.txt --library=/Library/Frameworks/R.framework/Resources/library --no-vignettes --timings POMA_1.16.0.tar.gz StartedAt: 2025-04-02 04:29:26 -0400 (Wed, 02 Apr 2025) EndedAt: 2025-04-02 04:33:35 -0400 (Wed, 02 Apr 2025) EllapsedTime: 249.3 seconds RetCode: 0 Status: OK CheckDir: POMA.Rcheck Warnings: 0