Package: POMA Version: 1.16.0 Command: /Library/Frameworks/R.framework/Resources/bin/R CMD build --keep-empty-dirs --no-resave-data POMA StartedAt: 2025-04-01 05:16:47 -0400 (Tue, 01 Apr 2025) EndedAt: 2025-04-01 05:17:29 -0400 (Tue, 01 Apr 2025) EllapsedTime: 41.3 seconds RetCode: 0 Status: OK PackageFile: POMA_1.16.0.tar.gz PackageFileSize: 2.146 MiB