Package: PLSDAbatch Version: 1.2.0 Command: /home/biocbuild/R/R/bin/R CMD check --install=check:PLSDAbatch.install-out.txt --library=/home/biocbuild/R/R/site-library --no-vignettes --timings PLSDAbatch_1.2.0.tar.gz StartedAt: 2025-04-01 09:28:40 -0000 (Tue, 01 Apr 2025) EndedAt: 2025-04-01 09:33:56 -0000 (Tue, 01 Apr 2025) EllapsedTime: 315.4 seconds RetCode: 0 Status: OK CheckDir: PLSDAbatch.Rcheck Warnings: 0