Package: PLSDAbatch Version: 1.2.0 Command: chmod a+r PLSDAbatch -R && F:\biocbuild\bbs-3.20-bioc\R\bin\R.exe CMD build --keep-empty-dirs --no-resave-data PLSDAbatch StartedAt: 2025-03-31 21:04:07 -0400 (Mon, 31 Mar 2025) EndedAt: 2025-03-31 21:06:54 -0400 (Mon, 31 Mar 2025) EllapsedTime: 166.0 seconds RetCode: 0 Status: OK PackageFile: PLSDAbatch_1.2.0.tar.gz PackageFileSize: 1.19 MiB