Package: PLSDAbatch Version: 1.2.0 Command: rm -rf PLSDAbatch.buildbin-libdir && mkdir PLSDAbatch.buildbin-libdir && F:\biocbuild\bbs-3.20-bioc\R\bin\R.exe CMD INSTALL --build --library=PLSDAbatch.buildbin-libdir PLSDAbatch_1.2.0.tar.gz StartedAt: 2025-04-01 08:53:19 -0400 (Tue, 01 Apr 2025) EndedAt: 2025-04-01 08:54:06 -0400 (Tue, 01 Apr 2025) EllapsedTime: 47.1 seconds RetCode: 0 Status: OK PackageFile: PLSDAbatch_1.2.0.zip PackageFileSize: 1.228 MiB