Package: PLSDAbatch Version: 1.2.0 Command: /home/biocbuild/bbs-3.20-bioc/R/bin/R CMD check --install=check:PLSDAbatch.install-out.txt --library=/home/biocbuild/bbs-3.20-bioc/R/site-library --timings PLSDAbatch_1.2.0.tar.gz StartedAt: 2025-04-01 01:02:01 -0400 (Tue, 01 Apr 2025) EndedAt: 2025-04-01 01:06:36 -0400 (Tue, 01 Apr 2025) EllapsedTime: 275.3 seconds RetCode: 0 Status: OK CheckDir: PLSDAbatch.Rcheck Warnings: 0