Package: PLSDAbatch Version: 1.2.0 Command: /Library/Frameworks/R.framework/Resources/bin/R CMD build --keep-empty-dirs --no-resave-data PLSDAbatch StartedAt: 2025-03-31 21:03:13 -0400 (Mon, 31 Mar 2025) EndedAt: 2025-03-31 21:06:09 -0400 (Mon, 31 Mar 2025) EllapsedTime: 176.5 seconds RetCode: 0 Status: OK PackageFile: PLSDAbatch_1.2.0.tar.gz PackageFileSize: 1.619 MiB