Package: PLSDAbatch Version: 1.2.0 Command: /Library/Frameworks/R.framework/Resources/bin/R CMD INSTALL PLSDAbatch StartedAt: 2025-03-31 18:09:48 -0400 (Mon, 31 Mar 2025) EndedAt: 2025-03-31 18:10:38 -0400 (Mon, 31 Mar 2025) EllapsedTime: 49.5 seconds RetCode: 0 Status: OK