Package: PLSDAbatch Version: 1.2.0 Command: /Library/Frameworks/R.framework/Resources/bin/R CMD check --install=check:PLSDAbatch.install-out.txt --library=/Library/Frameworks/R.framework/Resources/library --no-vignettes --timings PLSDAbatch_1.2.0.tar.gz StartedAt: 2025-04-02 04:22:32 -0400 (Wed, 02 Apr 2025) EndedAt: 2025-04-02 04:27:21 -0400 (Wed, 02 Apr 2025) EllapsedTime: 288.9 seconds RetCode: 0 Status: OK CheckDir: PLSDAbatch.Rcheck Warnings: 0