Package: PLSDAbatch Version: 1.2.0 Command: /Library/Frameworks/R.framework/Resources/bin/R CMD build --keep-empty-dirs --no-resave-data PLSDAbatch StartedAt: 2025-04-01 05:13:17 -0400 (Tue, 01 Apr 2025) EndedAt: 2025-04-01 05:14:51 -0400 (Tue, 01 Apr 2025) EllapsedTime: 93.9 seconds RetCode: 0 Status: OK PackageFile: PLSDAbatch_1.2.0.tar.gz PackageFileSize: 1.62 MiB