Package: PIPETS Version: 1.2.0 Command: F:\biocbuild\bbs-3.20-bioc\R\bin\R.exe CMD check --no-multiarch --install=check:PIPETS.install-out.txt --library=F:\biocbuild\bbs-3.20-bioc\R\library --no-vignettes --timings PIPETS_1.2.0.tar.gz StartedAt: 2025-04-01 04:36:39 -0400 (Tue, 01 Apr 2025) EndedAt: 2025-04-01 04:38:11 -0400 (Tue, 01 Apr 2025) EllapsedTime: 91.7 seconds RetCode: 0 Status: OK CheckDir: PIPETS.Rcheck Warnings: 0