Package: PING Version: 2.50.0 Command: F:\biocbuild\bbs-3.20-bioc\R\bin\R.exe CMD check --no-multiarch --install=check:PING.install-out.txt --library=F:\biocbuild\bbs-3.20-bioc\R\library --no-vignettes --timings PING_2.50.0.tar.gz StartedAt: 2025-04-01 04:36:03 -0400 (Tue, 01 Apr 2025) EndedAt: 2025-04-01 04:42:01 -0400 (Tue, 01 Apr 2025) EllapsedTime: 358.2 seconds RetCode: 0 Status: WARNINGS CheckDir: PING.Rcheck Warnings: 4