Package: PING Version: 2.50.0 Command: /Library/Frameworks/R.framework/Resources/bin/R CMD INSTALL PING StartedAt: 2025-03-31 18:19:49 -0400 (Mon, 31 Mar 2025) EndedAt: 2025-03-31 18:20:55 -0400 (Mon, 31 Mar 2025) EllapsedTime: 66.8 seconds RetCode: 0 Status: OK