Package: PICS Version: 2.50.0 Command: /home/biocbuild/R/R/bin/R CMD check --install=check:PICS.install-out.txt --library=/home/biocbuild/R/R/site-library --no-vignettes --timings PICS_2.50.0.tar.gz StartedAt: 2025-04-01 09:25:21 -0000 (Tue, 01 Apr 2025) EndedAt: 2025-04-01 09:28:46 -0000 (Tue, 01 Apr 2025) EllapsedTime: 205.2 seconds RetCode: 0 Status: OK CheckDir: PICS.Rcheck Warnings: 0