Package: PICS Version: 2.50.0 Command: /Library/Frameworks/R.framework/Resources/bin/R CMD build --keep-empty-dirs --no-resave-data PICS StartedAt: 2025-03-31 21:01:47 -0400 (Mon, 31 Mar 2025) EndedAt: 2025-03-31 21:03:51 -0400 (Mon, 31 Mar 2025) EllapsedTime: 123.7 seconds RetCode: 0 Status: OK PackageFile: PICS_2.50.0.tar.gz PackageFileSize: 723.7 KiB