Package: PECA Version: 1.42.0 Command: /home/biocbuild/R/R/bin/R CMD INSTALL PECA StartedAt: 2025-03-31 20:52:52 -0000 (Mon, 31 Mar 2025) EndedAt: 2025-03-31 20:53:19 -0000 (Mon, 31 Mar 2025) EllapsedTime: 26.8 seconds RetCode: 0 Status: OK