Package: PECA Version: 1.42.0 Command: /home/biocbuild/R/R/bin/R CMD build --keep-empty-dirs --no-resave-data PECA StartedAt: 2025-04-01 01:31:48 -0000 (Tue, 01 Apr 2025) EndedAt: 2025-04-01 01:32:34 -0000 (Tue, 01 Apr 2025) EllapsedTime: 46.0 seconds RetCode: 0 Status: OK PackageFile: PECA_1.42.0.tar.gz PackageFileSize: 209.2 KiB