Package: PECA Version: 1.42.0 Command: /Library/Frameworks/R.framework/Resources/bin/R CMD INSTALL PECA StartedAt: 2025-03-31 17:09:31 -0400 (Mon, 31 Mar 2025) EndedAt: 2025-03-31 17:09:54 -0400 (Mon, 31 Mar 2025) EllapsedTime: 22.5 seconds RetCode: 0 Status: OK