Package: PECA Version: 1.42.0 Command: /Library/Frameworks/R.framework/Resources/bin/R CMD check --install=check:PECA.install-out.txt --library=/Library/Frameworks/R.framework/Resources/library --no-vignettes --timings PECA_1.42.0.tar.gz StartedAt: 2025-04-02 03:51:09 -0400 (Wed, 02 Apr 2025) EndedAt: 2025-04-02 03:53:34 -0400 (Wed, 02 Apr 2025) EllapsedTime: 145.0 seconds RetCode: 0 Status: OK CheckDir: PECA.Rcheck Warnings: 0