Package: PDATK Version: 1.14.0 Command: F:\biocbuild\bbs-3.20-bioc\R\bin\R.exe CMD INSTALL PDATK StartedAt: 2025-03-31 17:08:07 -0400 (Mon, 31 Mar 2025) EndedAt: 2025-03-31 17:09:13 -0400 (Mon, 31 Mar 2025) EllapsedTime: 65.8 seconds RetCode: 0 Status: OK