Package: PDATK Version: 1.14.0 Command: /Library/Frameworks/R.framework/Resources/bin/R CMD INSTALL PDATK StartedAt: 2025-03-31 18:20:29 -0400 (Mon, 31 Mar 2025) EndedAt: 2025-03-31 18:21:17 -0400 (Mon, 31 Mar 2025) EllapsedTime: 48.3 seconds RetCode: 0 Status: OK