Package: PDATK Version: 1.14.0 Command: /Library/Frameworks/R.framework/Resources/bin/R CMD build --keep-empty-dirs --no-resave-data PDATK StartedAt: 2025-04-01 04:59:47 -0400 (Tue, 01 Apr 2025) EndedAt: 2025-04-01 05:01:55 -0400 (Tue, 01 Apr 2025) EllapsedTime: 128.1 seconds RetCode: 0 Status: OK PackageFile: PDATK_1.14.0.tar.gz PackageFileSize: 3.005 MiB