Package: PCAtools Version: 2.18.0 Command: chmod a+r PCAtools -R && F:\biocbuild\bbs-3.20-bioc\R\bin\R.exe CMD build --keep-empty-dirs --no-resave-data PCAtools StartedAt: 2025-03-31 20:55:04 -0400 (Mon, 31 Mar 2025) EndedAt: 2025-03-31 21:00:58 -0400 (Mon, 31 Mar 2025) EllapsedTime: 353.9 seconds RetCode: 0 Status: OK PackageFile: PCAtools_2.18.0.tar.gz PackageFileSize: 7.502 MiB