Package: PAST Version: 1.22.0 Command: /home/biocbuild/R/R/bin/R CMD check --install=check:PAST.install-out.txt --library=/home/biocbuild/R/R/site-library --no-vignettes --timings PAST_1.22.0.tar.gz StartedAt: 2025-04-01 09:17:16 -0000 (Tue, 01 Apr 2025) EndedAt: 2025-04-01 09:27:38 -0000 (Tue, 01 Apr 2025) EllapsedTime: 621.9 seconds RetCode: 0 Status: WARNINGS CheckDir: PAST.Rcheck Warnings: 2