Package: PAST Version: 1.22.0 Command: /Library/Frameworks/R.framework/Resources/bin/R CMD check --install=check:PAST.install-out.txt --library=/Library/Frameworks/R.framework/Resources/library --no-vignettes --timings PAST_1.22.0.tar.gz StartedAt: 2025-04-01 06:57:20 -0400 (Tue, 01 Apr 2025) EndedAt: 2025-04-01 07:14:09 -0400 (Tue, 01 Apr 2025) EllapsedTime: 1008.8 seconds RetCode: 0 Status: WARNINGS CheckDir: PAST.Rcheck Warnings: 2