Package: PAST Version: 1.22.0 Command: /Library/Frameworks/R.framework/Resources/bin/R CMD build --keep-empty-dirs --no-resave-data PAST StartedAt: 2025-03-31 20:53:26 -0400 (Mon, 31 Mar 2025) EndedAt: 2025-03-31 20:59:18 -0400 (Mon, 31 Mar 2025) EllapsedTime: 352.0 seconds RetCode: 0 Status: OK PackageFile: PAST_1.22.0.tar.gz PackageFileSize: 954.2 KiB