Package: PAST Version: 1.22.0 Command: /Library/Frameworks/R.framework/Resources/bin/R CMD build --keep-empty-dirs --no-resave-data PAST StartedAt: 2025-04-01 04:54:51 -0400 (Tue, 01 Apr 2025) EndedAt: 2025-04-01 04:57:17 -0400 (Tue, 01 Apr 2025) EllapsedTime: 146.4 seconds RetCode: 0 Status: OK PackageFile: PAST_1.22.0.tar.gz PackageFileSize: 954.4 KiB